BEGIN:VCALENDAR
VERSION:2.0
PRODID:-//Ayuntamiento Hondón de las Nieves - ECPv6.15.20//NONSGML v1.0//EN
CALSCALE:GREGORIAN
METHOD:PUBLISH
X-WR-CALNAME:Ayuntamiento Hondón de las Nieves
X-ORIGINAL-URL:https://www.fondoneus.es
X-WR-CALDESC:Eventos para Ayuntamiento Hondón de las Nieves
REFRESH-INTERVAL;VALUE=DURATION:PT1H
X-Robots-Tag:noindex
X-PUBLISHED-TTL:PT1H
BEGIN:VTIMEZONE
TZID:Europe/Madrid
BEGIN:DAYLIGHT
TZOFFSETFROM:+0100
TZOFFSETTO:+0200
TZNAME:CEST
DTSTART:20240331T010000
END:DAYLIGHT
BEGIN:STANDARD
TZOFFSETFROM:+0200
TZOFFSETTO:+0100
TZNAME:CET
DTSTART:20241027T010000
END:STANDARD
BEGIN:DAYLIGHT
TZOFFSETFROM:+0100
TZOFFSETTO:+0200
TZNAME:CEST
DTSTART:20250330T010000
END:DAYLIGHT
BEGIN:STANDARD
TZOFFSETFROM:+0200
TZOFFSETTO:+0100
TZNAME:CET
DTSTART:20251026T010000
END:STANDARD
BEGIN:DAYLIGHT
TZOFFSETFROM:+0100
TZOFFSETTO:+0200
TZNAME:CEST
DTSTART:20260329T010000
END:DAYLIGHT
BEGIN:STANDARD
TZOFFSETFROM:+0200
TZOFFSETTO:+0100
TZNAME:CET
DTSTART:20261025T010000
END:STANDARD
END:VTIMEZONE
BEGIN:VEVENT
DTSTART;TZID=Europe/Madrid:20250103T170000
DTEND;TZID=Europe/Madrid:20250103T170000
DTSTAMP:20260424T032801
CREATED:20241128T065937Z
LAST-MODIFIED:20241209T102721Z
UID:10000120-1735923600-1735923600@www.fondoneus.es
SUMMARY:La Vuelta al Mundo en 8'0 Canciones
DESCRIPTION:
URL:https://www.fondoneus.es/event/la-vuelta-al-mundo-en-80-canciones/
LOCATION:Aula de Cultura\, calle Jardín\, 1\, Hondón de las Nieves\, Alicante\, 03688\, España
CATEGORIES:Fiestas
ATTACH;FMTTYPE=image/jpeg:https://www.fondoneus.es/wp-content/uploads/2024/11/LA-VUELTA-AL-MUNDO-EN-80-CANCIONES.jpg
END:VEVENT
END:VCALENDAR