BEGIN:VCALENDAR
VERSION:2.0
PRODID:-//Ayuntamiento Hondón de las Nieves - ECPv6.15.20//NONSGML v1.0//EN
CALSCALE:GREGORIAN
METHOD:PUBLISH
X-WR-CALNAME:Ayuntamiento Hondón de las Nieves
X-ORIGINAL-URL:https://www.fondoneus.es
X-WR-CALDESC:Eventos para Ayuntamiento Hondón de las Nieves
REFRESH-INTERVAL;VALUE=DURATION:PT1H
X-Robots-Tag:noindex
X-PUBLISHED-TTL:PT1H
BEGIN:VTIMEZONE
TZID:Europe/Madrid
BEGIN:DAYLIGHT
TZOFFSETFROM:+0100
TZOFFSETTO:+0200
TZNAME:CEST
DTSTART:20240331T010000
END:DAYLIGHT
BEGIN:STANDARD
TZOFFSETFROM:+0200
TZOFFSETTO:+0100
TZNAME:CET
DTSTART:20241027T010000
END:STANDARD
BEGIN:DAYLIGHT
TZOFFSETFROM:+0100
TZOFFSETTO:+0200
TZNAME:CEST
DTSTART:20250330T010000
END:DAYLIGHT
BEGIN:STANDARD
TZOFFSETFROM:+0200
TZOFFSETTO:+0100
TZNAME:CET
DTSTART:20251026T010000
END:STANDARD
BEGIN:DAYLIGHT
TZOFFSETFROM:+0100
TZOFFSETTO:+0200
TZNAME:CEST
DTSTART:20260329T010000
END:DAYLIGHT
BEGIN:STANDARD
TZOFFSETFROM:+0200
TZOFFSETTO:+0100
TZNAME:CET
DTSTART:20261025T010000
END:STANDARD
BEGIN:DAYLIGHT
TZOFFSETFROM:+0100
TZOFFSETTO:+0200
TZNAME:CEST
DTSTART:20270328T010000
END:DAYLIGHT
BEGIN:STANDARD
TZOFFSETFROM:+0200
TZOFFSETTO:+0100
TZNAME:CET
DTSTART:20271031T010000
END:STANDARD
END:VTIMEZONE
BEGIN:VEVENT
DTSTART;TZID=Europe/Madrid:20260418T180000
DTEND;TZID=Europe/Madrid:20260418T180000
DTSTAMP:20260423T204033
CREATED:20260409T055835Z
LAST-MODIFIED:20260409T055835Z
UID:10000373-1776535200-1776535200@www.fondoneus.es
SUMMARY:Rapunzel El Musical
DESCRIPTION:
URL:https://www.fondoneus.es/event/rapunzel-el-musical/
LOCATION:Aula de Cultura\, calle Jardín\, 1\, Hondón de las Nieves\, Alicante\, 03688\, España
CATEGORIES:Cultura
ATTACH;FMTTYPE=image/jpeg:https://www.fondoneus.es/wp-content/uploads/2026/04/CARTEL-RAPUNZEL-EL-MUSICAL-HONDON-DE-LAS-NIEVES_Optimized-1_min.jpg
END:VEVENT
BEGIN:VEVENT
DTSTART;TZID=Europe/Madrid:20260411T180000
DTEND;TZID=Europe/Madrid:20260411T180000
DTSTAMP:20260423T204033
CREATED:20260407T105522Z
LAST-MODIFIED:20260407T105522Z
UID:10000370-1775930400-1775930400@www.fondoneus.es
SUMMARY:Inauguración exposición de pintura "Arte y mujer"
DESCRIPTION:
URL:https://www.fondoneus.es/event/inauguracion-exposicion-de-pintura-arte-y-mujer/
LOCATION:Aula de Cultura\, calle Jardín\, 1\, Hondón de las Nieves\, Alicante\, 03688\, España
CATEGORIES:Cultura
ATTACH;FMTTYPE=image/jpeg:https://www.fondoneus.es/wp-content/uploads/2026/04/exposicion-paqui-miralles.jpg
END:VEVENT
BEGIN:VEVENT
DTSTART;TZID=Europe/Madrid:20260314T203000
DTEND;TZID=Europe/Madrid:20260314T203000
DTSTAMP:20260423T204033
CREATED:20260225T110705Z
LAST-MODIFIED:20260309T065611Z
UID:10000364-1773520200-1773520200@www.fondoneus.es
SUMMARY:SUSPENDIDO Concierto: "Revolviendo Secretos"
DESCRIPTION:
URL:https://www.fondoneus.es/event/concierto-revolviendo-secretos/
LOCATION:Aula de Cultura\, calle Jardín\, 1\, Hondón de las Nieves\, Alicante\, 03688\, España
CATEGORIES:Cultura
ATTACH;FMTTYPE=image/jpeg:https://www.fondoneus.es/wp-content/uploads/2026/02/SECRETOS-suspendido.jpg
END:VEVENT
BEGIN:VEVENT
DTSTART;TZID=Europe/Madrid:20260308T183000
DTEND;TZID=Europe/Madrid:20260308T183000
DTSTAMP:20260423T204033
CREATED:20260225T105647Z
LAST-MODIFIED:20260225T110821Z
UID:10000358-1772994600-1772994600@www.fondoneus.es
SUMMARY:Teatro: "María La Calderona"
DESCRIPTION:
URL:https://www.fondoneus.es/event/teatro-maria-la-calderona/
LOCATION:Aula de Cultura\, calle Jardín\, 1\, Hondón de las Nieves\, Alicante\, 03688\, España
CATEGORIES:Cultura
ATTACH;FMTTYPE=image/jpeg:https://www.fondoneus.es/wp-content/uploads/2026/02/MARIA-LA-CALDERONA.jpg
END:VEVENT
BEGIN:VEVENT
DTSTART;TZID=Europe/Madrid:20260307T203000
DTEND;TZID=Europe/Madrid:20260307T223000
DTSTAMP:20260423T204033
CREATED:20260225T110138Z
LAST-MODIFIED:20260309T070140Z
UID:10000359-1772915400-1772922600@www.fondoneus.es
SUMMARY:SUSPENDIDO Show: IMPRO MATCH
DESCRIPTION:Show
URL:https://www.fondoneus.es/event/show-impro-match/
LOCATION:Aula de Cultura\, calle Jardín\, 1\, Hondón de las Nieves\, Alicante\, 03688\, España
CATEGORIES:Cultura
ATTACH;FMTTYPE=image/jpeg:https://www.fondoneus.es/wp-content/uploads/2026/02/IMPRO-MATCH-suspendido.jpg
END:VEVENT
BEGIN:VEVENT
DTSTART;TZID=Europe/Madrid:20260103T193000
DTEND;TZID=Europe/Madrid:20260103T193000
DTSTAMP:20260423T204033
CREATED:20251205T114134Z
LAST-MODIFIED:20251205T114134Z
UID:10000342-1767468600-1767468600@www.fondoneus.es
SUMMARY:Teatro: “¡VIVA LA VIDA! Frida Kalho”
DESCRIPTION:A cargo de la Cía. Maracaibo Teatro \nRecomendada a partir de 8 años. Entrada libre hasta completar aforo
URL:https://www.fondoneus.es/event/teatro-viva-la-vida-frida-kalho/
LOCATION:Aula de Cultura\, calle Jardín\, 1\, Hondón de las Nieves\, Alicante\, 03688\, España
CATEGORIES:Cultura,Fiestas
END:VEVENT
BEGIN:VEVENT
DTSTART;TZID=Europe/Madrid:20260103T170000
DTEND;TZID=Europe/Madrid:20260103T170000
DTSTAMP:20260423T204033
CREATED:20251205T113725Z
LAST-MODIFIED:20251205T113725Z
UID:10000339-1767459600-1767459600@www.fondoneus.es
SUMMARY:Entrega de cartas a los pajes de SS.MM. los Reyes Magos de Oriente
DESCRIPTION:
URL:https://www.fondoneus.es/event/entrega-de-cartas-a-los-pajes-de-ss-mm-los-reyes-magos-de-oriente/
LOCATION:Aula de Cultura\, calle Jardín\, 1\, Hondón de las Nieves\, Alicante\, 03688\, España
CATEGORIES:Fiestas
END:VEVENT
BEGIN:VEVENT
DTSTART;TZID=Europe/Madrid:20251230T190000
DTEND;TZID=Europe/Madrid:20251230T190000
DTSTAMP:20260423T204033
CREATED:20251205T112100Z
LAST-MODIFIED:20251205T112100Z
UID:10000324-1767121200-1767121200@www.fondoneus.es
SUMMARY:Nochevieja infantil y juvenil anticipada
DESCRIPTION:Se darán las 12 campanadas desde la Plaza de la Villa. Continuará la fiesta con una disco móvil en el Aula de Cultura
URL:https://www.fondoneus.es/event/nochevieja-infantil-y-juvenil-anticipada/
LOCATION:Aula de Cultura\, calle Jardín\, 1\, Hondón de las Nieves\, Alicante\, 03688\, España
CATEGORIES:Fiestas
END:VEVENT
BEGIN:VEVENT
DTSTART;TZID=Europe/Madrid:20251227T233000
DTEND;TZID=Europe/Madrid:20251227T233000
DTSTAMP:20260423T204033
CREATED:20251205T111500Z
LAST-MODIFIED:20251205T111518Z
UID:10000318-1766878200-1766878200@www.fondoneus.es
SUMMARY:Fiesta “La Cápsula del tiempo 2.0” con DJ ROIG
DESCRIPTION:
URL:https://www.fondoneus.es/event/fiesta-la-capsula-del-tiempo-2-0-con-dj-roig/
LOCATION:Aula de Cultura\, calle Jardín\, 1\, Hondón de las Nieves\, Alicante\, 03688\, España
CATEGORIES:Fiestas
END:VEVENT
BEGIN:VEVENT
DTSTART;TZID=Europe/Madrid:20251227T170000
DTEND;TZID=Europe/Madrid:20251227T170000
DTSTAMP:20260423T204033
CREATED:20251205T111157Z
LAST-MODIFIED:20251205T111157Z
UID:10000315-1766854800-1766854800@www.fondoneus.es
SUMMARY:Teatro familiar: “Caperucita Roja”
DESCRIPTION:A continuación entrega de los premios del concurso de dibujo infantil y chocolate para los más pequeños con la colaboración de la Asoc. de Amas de Casa
URL:https://www.fondoneus.es/event/teatro-familiar-caperucita-roja/
LOCATION:Aula de Cultura\, calle Jardín\, 1\, Hondón de las Nieves\, Alicante\, 03688\, España
CATEGORIES:Cultura,Fiestas
END:VEVENT
BEGIN:VEVENT
DTSTART;TZID=Europe/Madrid:20251225T200000
DTEND;TZID=Europe/Madrid:20251225T200000
DTSTAMP:20260423T204033
CREATED:20251205T104926Z
LAST-MODIFIED:20251205T110805Z
UID:10000309-1766692800-1766692800@www.fondoneus.es
SUMMARY:“Concierto de Navidad”\, a cargo de la Unión Musical Hondón de las Nieves
DESCRIPTION:
URL:https://www.fondoneus.es/event/concierto-de-navidad-a-cargo-de-la-union-musical-hondon-de-las-nieves/
LOCATION:Aula de Cultura\, calle Jardín\, 1\, Hondón de las Nieves\, Alicante\, 03688\, España
CATEGORIES:Fiestas
END:VEVENT
BEGIN:VEVENT
DTSTART;TZID=Europe/Madrid:20251224T160000
DTEND;TZID=Europe/Madrid:20251224T203000
DTSTAMP:20260423T204033
CREATED:20251205T104347Z
LAST-MODIFIED:20251205T104347Z
UID:10000303-1766592000-1766608200@www.fondoneus.es
SUMMARY:Tardeo Nochebuena
DESCRIPTION:
URL:https://www.fondoneus.es/event/tardeo-nochebuena/
LOCATION:Aula de Cultura\, calle Jardín\, 1\, Hondón de las Nieves\, Alicante\, 03688\, España
CATEGORIES:Fiestas
END:VEVENT
BEGIN:VEVENT
DTSTART;TZID=Europe/Madrid:20251221T190000
DTEND;TZID=Europe/Madrid:20251221T190000
DTSTAMP:20260423T204033
CREATED:20251205T093102Z
LAST-MODIFIED:20251205T093102Z
UID:10000297-1766343600-1766343600@www.fondoneus.es
SUMMARY:Concierto de Villancicos
DESCRIPTION:A cargo de la “Rondalla y Grup de Danses Fondó de les Neus”
URL:https://www.fondoneus.es/event/concierto-de-villancicos-2/
LOCATION:Aula de Cultura\, calle Jardín\, 1\, Hondón de las Nieves\, Alicante\, 03688\, España
CATEGORIES:Fiestas
END:VEVENT
BEGIN:VEVENT
DTSTART;TZID=Europe/Madrid:20251220T180000
DTEND;TZID=Europe/Madrid:20251220T180000
DTSTAMP:20260423T204033
CREATED:20251205T090755Z
LAST-MODIFIED:20251205T090755Z
UID:10000288-1766253600-1766253600@www.fondoneus.es
SUMMARY:Teatro “Ay Carmela” de Siete Comediantes
DESCRIPTION:Organizado por la Asoc. de Amas de casa
URL:https://www.fondoneus.es/event/teatro-ay-carmela-de-siete-comediantes/
LOCATION:Aula de Cultura\, calle Jardín\, 1\, Hondón de las Nieves\, Alicante\, 03688\, España
CATEGORIES:Cultura
END:VEVENT
BEGIN:VEVENT
DTSTART;TZID=Europe/Madrid:20251219T093000
DTEND;TZID=Europe/Madrid:20251219T093000
DTSTAMP:20260423T204033
CREATED:20251205T090302Z
LAST-MODIFIED:20251205T090540Z
UID:10000285-1766136600-1766136600@www.fondoneus.es
SUMMARY:Inauguración de la exposición de dibujo
DESCRIPTION:A cargo de los alumnos/as del CEIP Ntra. Sra. de las Nieves y CEIP l’Om
URL:https://www.fondoneus.es/event/inauguracion-de-la-exposicion-de-dibujo/
LOCATION:Aula de Cultura\, calle Jardín\, 1\, Hondón de las Nieves\, Alicante\, 03688\, España
CATEGORIES:Cultura,Educación,Fiestas
END:VEVENT
BEGIN:VEVENT
DTSTART;TZID=Europe/Madrid:20251214T170000
DTEND;TZID=Europe/Madrid:20251214T200000
DTSTAMP:20260423T204033
CREATED:20251205T085930Z
LAST-MODIFIED:20251205T085930Z
UID:10000282-1765731600-1765742400@www.fondoneus.es
SUMMARY:Espectáculo: “DANZA EN NAVIDAD”
DESCRIPTION:A cargo del Estudio de danza Beatriz Arin. \n17:00h Danza Urbana\, oriental\, ballet y danza Española \n19:00h especial Flamenco
URL:https://www.fondoneus.es/event/espectaculo-danza-en-navidad/
LOCATION:Aula de Cultura\, calle Jardín\, 1\, Hondón de las Nieves\, Alicante\, 03688\, España
CATEGORIES:Cultura
END:VEVENT
BEGIN:VEVENT
DTSTART;TZID=Europe/Madrid:20251213T203000
DTEND;TZID=Europe/Madrid:20251213T223000
DTSTAMP:20260423T204033
CREATED:20251202T092832Z
LAST-MODIFIED:20251202T092832Z
UID:10000276-1765657800-1765665000@www.fondoneus.es
SUMMARY:Monólogo “Esto es jauja” de Miguel 925
DESCRIPTION:
URL:https://www.fondoneus.es/event/monologo-esto-es-jauja-de-miguel-925/
LOCATION:Aula de Cultura\, calle Jardín\, 1\, Hondón de las Nieves\, Alicante\, 03688\, España
CATEGORIES:Cultura
END:VEVENT
BEGIN:VEVENT
DTSTART;TZID=Europe/Madrid:20251207T193000
DTEND;TZID=Europe/Madrid:20251207T193000
DTSTAMP:20260423T204033
CREATED:20251202T085409Z
LAST-MODIFIED:20251202T085445Z
UID:10000270-1765135800-1765135800@www.fondoneus.es
SUMMARY:Teatro familiar “PIXELADOS”
DESCRIPTION:A cargo de la Compañía IMPROVIVENCIA incluida en el CCV.
URL:https://www.fondoneus.es/event/teatro-familiar-pixelados/
LOCATION:Aula de Cultura\, calle Jardín\, 1\, Hondón de las Nieves\, Alicante\, 03688\, España
CATEGORIES:Cultura
END:VEVENT
BEGIN:VEVENT
DTSTART;TZID=Europe/Madrid:20251205T093000
DTEND;TZID=Europe/Madrid:20251205T093000
DTSTAMP:20260423T204033
CREATED:20251202T082956Z
LAST-MODIFIED:20251202T082956Z
UID:10000258-1764927000-1764927000@www.fondoneus.es
SUMMARY:Inauguración del Belén del CEIP Ntra. Sra. de las Nieves
DESCRIPTION:
URL:https://www.fondoneus.es/event/inauguracion-del-belen-del-ceip-ntra-sra-de-las-nieves/
LOCATION:Aula de Cultura\, calle Jardín\, 1\, Hondón de las Nieves\, Alicante\, 03688\, España
CATEGORIES:Fiestas
END:VEVENT
BEGIN:VEVENT
DTSTART;TZID=Europe/Madrid:20251129T190000
DTEND;TZID=Europe/Madrid:20251129T200000
DTSTAMP:20260423T204033
CREATED:20251007T114015Z
LAST-MODIFIED:20251007T114015Z
UID:10000246-1764442800-1764446400@www.fondoneus.es
SUMMARY:Teatro: Fondillón para dos
DESCRIPTION:
URL:https://www.fondoneus.es/event/teatro-fondillon-para-dos/
LOCATION:Aula de Cultura\, calle Jardín\, 1\, Hondón de las Nieves\, Alicante\, 03688\, España
CATEGORIES:Cultura
ATTACH;FMTTYPE=image/jpeg:https://www.fondoneus.es/wp-content/uploads/2025/10/CARTEL-HONDON-FONDILLON.jpg
END:VEVENT
BEGIN:VEVENT
DTSTART;TZID=Europe/Madrid:20251102T183000
DTEND;TZID=Europe/Madrid:20251102T193000
DTSTAMP:20260423T204033
CREATED:20251007T114517Z
LAST-MODIFIED:20251007T114517Z
UID:10000252-1762108200-1762111800@www.fondoneus.es
SUMMARY:Katherine Macbeth
DESCRIPTION:
URL:https://www.fondoneus.es/event/katherine-macbeth/
LOCATION:Aula de Cultura\, calle Jardín\, 1\, Hondón de las Nieves\, Alicante\, 03688\, España
CATEGORIES:Cultura
ATTACH;FMTTYPE=image/jpeg:https://www.fondoneus.es/wp-content/uploads/2025/10/CARTEL-CAVE-CANEM.jpg
END:VEVENT
BEGIN:VEVENT
DTSTART;TZID=Europe/Madrid:20251019T190000
DTEND;TZID=Europe/Madrid:20251019T200000
DTSTAMP:20260423T204033
CREATED:20250929T082916Z
LAST-MODIFIED:20250929T082916Z
UID:10000237-1760900400-1760904000@www.fondoneus.es
SUMMARY:Conferencia-espectáculo: "Empoderarte"
DESCRIPTION:
URL:https://www.fondoneus.es/event/conferencia-espectaculo-empoderarte/
LOCATION:Aula de Cultura\, calle Jardín\, 1\, Hondón de las Nieves\, Alicante\, 03688\, España
CATEGORIES:Cultura
ATTACH;FMTTYPE=image/jpeg:https://www.fondoneus.es/wp-content/uploads/2025/09/Cartel-_-EMPODERARTE.jpg
END:VEVENT
BEGIN:VEVENT
DTSTART;TZID=Europe/Madrid:20251004T200000
DTEND;TZID=Europe/Madrid:20251004T210000
DTSTAMP:20260423T204033
CREATED:20250929T083043Z
LAST-MODIFIED:20250929T083043Z
UID:10000240-1759608000-1759611600@www.fondoneus.es
SUMMARY:Espectáculo: Divertidamente
DESCRIPTION:
URL:https://www.fondoneus.es/event/espectaculo-divertidamente/
LOCATION:Aula de Cultura\, calle Jardín\, 1\, Hondón de las Nieves\, Alicante\, 03688\, España
CATEGORIES:Cultura
ATTACH;FMTTYPE=image/jpeg:https://www.fondoneus.es/wp-content/uploads/2025/09/CARTEL-DIVERTIDAMENTE.jpg
END:VEVENT
BEGIN:VEVENT
DTSTART;TZID=Europe/Madrid:20250717T200000
DTEND;TZID=Europe/Madrid:20250717T200000
DTSTAMP:20260423T204033
CREATED:20250715T094317Z
LAST-MODIFIED:20250715T094317Z
UID:10000208-1752782400-1752782400@www.fondoneus.es
SUMMARY:Documental: EL VOLCÁN MÁS ALTO DEL MUNDO
DESCRIPTION:
URL:https://www.fondoneus.es/event/documental-el-volcan-mas-alto-del-mundo/
LOCATION:Aula de Cultura\, calle Jardín\, 1\, Hondón de las Nieves\, Alicante\, 03688\, España
CATEGORIES:Deportes
ATTACH;FMTTYPE=image/jpeg:https://www.fondoneus.es/wp-content/uploads/2025/07/OJOS-SALADO_min.jpg
END:VEVENT
BEGIN:VEVENT
DTSTART;TZID=Europe/Madrid:20250531T210000
DTEND;TZID=Europe/Madrid:20250531T210000
DTSTAMP:20260423T204033
CREATED:20250530T113415Z
LAST-MODIFIED:20250530T113415Z
UID:10000207-1748725200-1748725200@www.fondoneus.es
SUMMARY:Viaje a través de la música
DESCRIPTION:
URL:https://www.fondoneus.es/event/viaje-a-traves-de-la-musica/
LOCATION:Aula de Cultura\, calle Jardín\, 1\, Hondón de las Nieves\, Alicante\, 03688\, España
CATEGORIES:Cultura
ATTACH;FMTTYPE=image/jpeg:https://www.fondoneus.es/wp-content/uploads/2025/05/OSVI.jpg
END:VEVENT
BEGIN:VEVENT
DTSTART;TZID=Europe/Madrid:20250426T190000
DTEND;TZID=Europe/Madrid:20250426T190000
DTSTAMP:20260423T204033
CREATED:20250417T063210Z
LAST-MODIFIED:20250417T063210Z
UID:10000201-1745694000-1745694000@www.fondoneus.es
SUMMARY:Toni Bright "Creer es poder"
DESCRIPTION:
URL:https://www.fondoneus.es/event/toni-bright-creer-es-poder/
LOCATION:Aula de Cultura\, calle Jardín\, 1\, Hondón de las Nieves\, Alicante\, 03688\, España
CATEGORIES:Cultura
ATTACH;FMTTYPE=image/jpeg:https://www.fondoneus.es/wp-content/uploads/2025/04/toni-bright.jpg
END:VEVENT
BEGIN:VEVENT
DTSTART;TZID=Europe/Madrid:20250426T170000
DTEND;TZID=Europe/Madrid:20250426T170000
DTSTAMP:20260423T204033
CREATED:20250417T063009Z
LAST-MODIFIED:20250417T063009Z
UID:10000198-1745686800-1745686800@www.fondoneus.es
SUMMARY:Taller de magia
DESCRIPTION:
URL:https://www.fondoneus.es/event/taller-de-magia/
LOCATION:Aula de Cultura\, calle Jardín\, 1\, Hondón de las Nieves\, Alicante\, 03688\, España
CATEGORIES:Cultura
ATTACH;FMTTYPE=image/jpeg:https://www.fondoneus.es/wp-content/uploads/2025/04/TALLER-MAGIA.jpg
END:VEVENT
BEGIN:VEVENT
DTSTART;TZID=Europe/Madrid:20250412T190000
DTEND;TZID=Europe/Madrid:20250412T190000
DTSTAMP:20260423T204033
CREATED:20250328T104353Z
LAST-MODIFIED:20250328T104353Z
UID:10000186-1744484400-1744484400@www.fondoneus.es
SUMMARY:Concierto de Semana Santa
DESCRIPTION:
URL:https://www.fondoneus.es/event/concierto-de-semana-santa/
LOCATION:Aula de Cultura\, calle Jardín\, 1\, Hondón de las Nieves\, Alicante\, 03688\, España
CATEGORIES:Cultura,Fiestas
ATTACH;FMTTYPE=image/jpeg:https://www.fondoneus.es/wp-content/uploads/2025/03/Cartel_concierto_MIN.jpg
END:VEVENT
BEGIN:VEVENT
DTSTART;TZID=Europe/Madrid:20250215T200000
DTEND;TZID=Europe/Madrid:20250215T200000
DTSTAMP:20260423T204033
CREATED:20250113T115629Z
LAST-MODIFIED:20250113T115629Z
UID:10000171-1739649600-1739649600@www.fondoneus.es
SUMMARY:Acho apellidos murcianos 2
DESCRIPTION:
URL:https://www.fondoneus.es/event/acho-apellidos-murcianos-2/
LOCATION:Aula de Cultura\, calle Jardín\, 1\, Hondón de las Nieves\, Alicante\, 03688\, España
CATEGORIES:Cultura
ATTACH;FMTTYPE=image/jpeg:https://www.fondoneus.es/wp-content/uploads/2025/01/8-APELLIDOS.jpeg
END:VEVENT
BEGIN:VEVENT
DTSTART;TZID=Europe/Madrid:20250208T193000
DTEND;TZID=Europe/Madrid:20250208T200000
DTSTAMP:20260423T204033
CREATED:20250127T073633Z
LAST-MODIFIED:20250127T073633Z
UID:10000178-1739043000-1739044800@www.fondoneus.es
SUMMARY:Festival de Danza
DESCRIPTION:
URL:https://www.fondoneus.es/event/festival-de-danza/2025-02-08/2/
LOCATION:Aula de Cultura\, calle Jardín\, 1\, Hondón de las Nieves\, Alicante\, 03688\, España
CATEGORIES:Cultura
ATTACH;FMTTYPE=image/jpeg:https://www.fondoneus.es/wp-content/uploads/2025/01/festival-de-danza.jpg
END:VEVENT
END:VCALENDAR