BEGIN:VCALENDAR
VERSION:2.0
PRODID:-//Ayuntamiento Hondón de las Nieves - ECPv6.15.20//NONSGML v1.0//EN
CALSCALE:GREGORIAN
METHOD:PUBLISH
X-WR-CALNAME:Ayuntamiento Hondón de las Nieves
X-ORIGINAL-URL:https://www.fondoneus.es
X-WR-CALDESC:Eventos para Ayuntamiento Hondón de las Nieves
REFRESH-INTERVAL;VALUE=DURATION:PT1H
X-Robots-Tag:noindex
X-PUBLISHED-TTL:PT1H
BEGIN:VTIMEZONE
TZID:Europe/Madrid
BEGIN:DAYLIGHT
TZOFFSETFROM:+0100
TZOFFSETTO:+0200
TZNAME:CEST
DTSTART:20230326T010000
END:DAYLIGHT
BEGIN:STANDARD
TZOFFSETFROM:+0200
TZOFFSETTO:+0100
TZNAME:CET
DTSTART:20231029T010000
END:STANDARD
BEGIN:DAYLIGHT
TZOFFSETFROM:+0100
TZOFFSETTO:+0200
TZNAME:CEST
DTSTART:20240331T010000
END:DAYLIGHT
BEGIN:STANDARD
TZOFFSETFROM:+0200
TZOFFSETTO:+0100
TZNAME:CET
DTSTART:20241027T010000
END:STANDARD
BEGIN:DAYLIGHT
TZOFFSETFROM:+0100
TZOFFSETTO:+0200
TZNAME:CEST
DTSTART:20250330T010000
END:DAYLIGHT
BEGIN:STANDARD
TZOFFSETFROM:+0200
TZOFFSETTO:+0100
TZNAME:CET
DTSTART:20251026T010000
END:STANDARD
END:VTIMEZONE
BEGIN:VEVENT
DTSTART;TZID=Europe/Madrid:20241222T190000
DTEND;TZID=Europe/Madrid:20241222T190000
DTSTAMP:20260424T005931
CREATED:20241220T122427Z
LAST-MODIFIED:20241220T122427Z
UID:10000159-1734894000-1734894000@www.fondoneus.es
SUMMARY:Concierto de Villancicos
DESCRIPTION:
URL:https://www.fondoneus.es/event/concierto-de-villancicos/
LOCATION:Aula de Cultura\, calle Jardín\, 1\, Hondón de las Nieves\, Alicante\, 03688\, España
CATEGORIES:Fiestas
ATTACH;FMTTYPE=image/png:https://www.fondoneus.es/wp-content/uploads/2024/12/RONDALLA-22_min.jpg.png
END:VEVENT
BEGIN:VEVENT
DTSTART;TZID=Europe/Madrid:20241221T233000
DTEND;TZID=Europe/Madrid:20241222T043000
DTSTAMP:20260424T005931
CREATED:20241128T080735Z
LAST-MODIFIED:20241128T080735Z
UID:10000127-1734823800-1734841800@www.fondoneus.es
SUMMARY:CÁPSULA DEL TIEMPO "UN VIAJE EN EL PASADO\, UNA FIESTA EN EL PRESENTE"
DESCRIPTION:
URL:https://www.fondoneus.es/event/capsula-del-tiempo-un-viaje-en-el-pasado-una-fiesta-en-el-presente/
LOCATION:Aula de Cultura\, calle Jardín\, 1\, Hondón de las Nieves\, Alicante\, 03688\, España
CATEGORIES:Fiestas
ATTACH;FMTTYPE=image/jpeg:https://www.fondoneus.es/wp-content/uploads/2024/11/CAPSULA-AFORO.jpg
END:VEVENT
BEGIN:VEVENT
DTSTART;TZID=Europe/Madrid:20241220T193000
DTEND;TZID=Europe/Madrid:20241220T193000
DTSTAMP:20260424T005931
CREATED:20241213T125029Z
LAST-MODIFIED:20241220T073100Z
UID:10000142-1734723000-1734723000@www.fondoneus.es
SUMMARY:CHARLA: "LA PRIMERA ESTRELLA DEL UNIVERSO"
DESCRIPTION:A cargo del astrofísico \nde la Universidad de La Laguna \ne investigador de astrofísica de Canarias\, \nArtemio Herrero Davó
URL:https://www.fondoneus.es/event/charla-la-primera-estrella-del-universo/
LOCATION:Aula de Cultura\, calle Jardín\, 1\, Hondón de las Nieves\, Alicante\, 03688\, España
CATEGORIES:Cultura
END:VEVENT
BEGIN:VEVENT
DTSTART;TZID=Europe/Madrid:20241218T170000
DTEND;TZID=Europe/Madrid:20241218T170000
DTSTAMP:20260424T005931
CREATED:20241213T124202Z
LAST-MODIFIED:20241213T124202Z
UID:10000139-1734541200-1734541200@www.fondoneus.es
SUMMARY:CHARLA INFORMATIVA - HONDÓN DE LAS NIEVES
DESCRIPTION:CONOCE EL NUEVO SERVICIO DE RECOGIDA DE RESIDUOS \nVen y conoce como funcionará el nuevo sistema de islas de contenedores \n¡ Te esperamos!
URL:https://www.fondoneus.es/event/charla-informativa-hondon-de-las-nieves/
LOCATION:Aula de Cultura\, calle Jardín\, 1\, Hondón de las Nieves\, Alicante\, 03688\, España
CATEGORIES:Medio Ambiente
ATTACH;FMTTYPE=image/jpeg:https://www.fondoneus.es/wp-content/uploads/2024/12/img_recogida_residuos.jpg
END:VEVENT
BEGIN:VEVENT
DTSTART;TZID=Europe/Madrid:20241009T190000
DTEND;TZID=Europe/Madrid:20241009T190000
DTSTAMP:20260424T005931
CREATED:20240920T052923Z
LAST-MODIFIED:20240920T052923Z
UID:10000099-1728500400-1728500400@www.fondoneus.es
SUMMARY:Comedia musical
DESCRIPTION:
URL:https://www.fondoneus.es/event/comedia-musical/
LOCATION:Aula de Cultura\, calle Jardín\, 1\, Hondón de las Nieves\, Alicante\, 03688\, España
CATEGORIES:Cultura
ATTACH;FMTTYPE=image/jpeg:https://www.fondoneus.es/wp-content/uploads/2024/09/teatro-9-10.jpg
END:VEVENT
BEGIN:VEVENT
DTSTART;TZID=Europe/Madrid:20240921T183000
DTEND;TZID=Europe/Madrid:20240921T183000
DTSTAMP:20260424T005931
CREATED:20240913T091944Z
LAST-MODIFIED:20240913T091944Z
UID:10000093-1726943400-1726943400@www.fondoneus.es
SUMMARY:CIRCO
DESCRIPTION:
URL:https://www.fondoneus.es/event/circo/
LOCATION:Aula de Cultura\, calle Jardín\, 1\, Hondón de las Nieves\, Alicante\, 03688\, España
CATEGORIES:Social
ATTACH;FMTTYPE=image/jpeg:https://www.fondoneus.es/wp-content/uploads/2024/09/CIRCO-21-9.jpg
END:VEVENT
BEGIN:VEVENT
DTSTART;TZID=Europe/Madrid:20240914T190000
DTEND;TZID=Europe/Madrid:20240914T190000
DTSTAMP:20260424T005931
CREATED:20240913T092739Z
LAST-MODIFIED:20240913T092739Z
UID:10000096-1726340400-1726340400@www.fondoneus.es
SUMMARY:Conferencia-espectáculo
DESCRIPTION:
URL:https://www.fondoneus.es/event/conferencia-espectaculo/
LOCATION:Aula de Cultura\, calle Jardín\, 1\, Hondón de las Nieves\, Alicante\, 03688\, España
CATEGORIES:Social
ATTACH;FMTTYPE=image/jpeg:https://www.fondoneus.es/wp-content/uploads/2024/09/fabian.jpg
END:VEVENT
BEGIN:VEVENT
DTSTART;TZID=Europe/Madrid:20240705T193000
DTEND;TZID=Europe/Madrid:20240705T213000
DTSTAMP:20260424T005931
CREATED:20240620T075955Z
LAST-MODIFIED:20240620T075955Z
UID:10000065-1720207800-1720215000@www.fondoneus.es
SUMMARY:Inauguración muestra de pintura: "SEGREGACIÓ 1839"
DESCRIPTION:
URL:https://www.fondoneus.es/event/inauguracion-muestra-de-pintura-segregacio-1839/
LOCATION:Aula de Cultura\, calle Jardín\, 1\, Hondón de las Nieves\, Alicante\, 03688\, España
CATEGORIES:Cultura
ATTACH;FMTTYPE=image/jpeg:https://www.fondoneus.es/wp-content/uploads/2024/06/pintura_min.jpg
END:VEVENT
BEGIN:VEVENT
DTSTART;TZID=Europe/Madrid:20240629T210000
DTEND;TZID=Europe/Madrid:20240629T210000
DTSTAMP:20260424T005931
CREATED:20240625T104254Z
LAST-MODIFIED:20240625T104254Z
UID:10000068-1719694800-1719694800@www.fondoneus.es
SUMMARY:La Movida de los 80'
DESCRIPTION:
URL:https://www.fondoneus.es/event/la-movida-de-los-80/
LOCATION:Aula de Cultura\, calle Jardín\, 1\, Hondón de las Nieves\, Alicante\, 03688\, España
CATEGORIES:Cultura,Fiestas
ATTACH;FMTTYPE=image/jpeg:https://www.fondoneus.es/wp-content/uploads/2024/06/la-movida_min.jpg
END:VEVENT
BEGIN:VEVENT
DTSTART;TZID=Europe/Madrid:20240210T180000
DTEND;TZID=Europe/Madrid:20240210T180000
DTSTAMP:20260424T005931
CREATED:20240206T064526Z
LAST-MODIFIED:20240206T064526Z
UID:10000025-1707588000-1707588000@www.fondoneus.es
SUMMARY:IV Encuentro de Bolillos
DESCRIPTION:SÁBADO 10 DE MARZO \nA PARTIR DE LAS 10.00 HORAS \nEN LA PLAZA DE LA VILLA \nA LAS 18.00 HORAS CAMERATA LÍRICA \nEN EL AULA DE CULTURA
URL:https://www.fondoneus.es/event/iv-encuentro-de-bolillos/2024-02-10/2/
LOCATION:Plaza de la Villa\, PLAZA DE LA VILLA\, Hondón de las Nieves\, Alicante\, 03688\, España
CATEGORIES:Cultura
ATTACH;FMTTYPE=image/png:https://www.fondoneus.es/wp-content/uploads/2024/02/IV-ENCUENTRO-BOLILLOS-854.png
END:VEVENT
BEGIN:VEVENT
DTSTART;TZID=Europe/Madrid:20240210T100000
DTEND;TZID=Europe/Madrid:20240210T100000
DTSTAMP:20260424T005931
CREATED:20240206T064526Z
LAST-MODIFIED:20240206T064526Z
UID:10000024-1707559200-1707559200@www.fondoneus.es
SUMMARY:IV Encuentro de Bolillos
DESCRIPTION:SÁBADO 10 DE MARZO \nA PARTIR DE LAS 10.00 HORAS \nEN LA PLAZA DE LA VILLA \nA LAS 18.00 HORAS CAMERATA LÍRICA \nEN EL AULA DE CULTURA
URL:https://www.fondoneus.es/event/iv-encuentro-de-bolillos/2024-02-10/1/
LOCATION:Plaza de la Villa\, PLAZA DE LA VILLA\, Hondón de las Nieves\, Alicante\, 03688\, España
CATEGORIES:Cultura
ATTACH;FMTTYPE=image/png:https://www.fondoneus.es/wp-content/uploads/2024/02/IV-ENCUENTRO-BOLILLOS-854.png
END:VEVENT
END:VCALENDAR