BEGIN:VCALENDAR
VERSION:2.0
PRODID:-//Ayuntamiento Hondón de las Nieves - ECPv6.15.20//NONSGML v1.0//EN
CALSCALE:GREGORIAN
METHOD:PUBLISH
X-WR-CALNAME:Ayuntamiento Hondón de las Nieves
X-ORIGINAL-URL:https://www.fondoneus.es
X-WR-CALDESC:Eventos para Ayuntamiento Hondón de las Nieves
REFRESH-INTERVAL;VALUE=DURATION:PT1H
X-Robots-Tag:noindex
X-PUBLISHED-TTL:PT1H
BEGIN:VTIMEZONE
TZID:Europe/Madrid
BEGIN:DAYLIGHT
TZOFFSETFROM:+0100
TZOFFSETTO:+0200
TZNAME:CEST
DTSTART:20250330T010000
END:DAYLIGHT
BEGIN:STANDARD
TZOFFSETFROM:+0200
TZOFFSETTO:+0100
TZNAME:CET
DTSTART:20251026T010000
END:STANDARD
BEGIN:DAYLIGHT
TZOFFSETFROM:+0100
TZOFFSETTO:+0200
TZNAME:CEST
DTSTART:20260329T010000
END:DAYLIGHT
BEGIN:STANDARD
TZOFFSETFROM:+0200
TZOFFSETTO:+0100
TZNAME:CET
DTSTART:20261025T010000
END:STANDARD
BEGIN:DAYLIGHT
TZOFFSETFROM:+0100
TZOFFSETTO:+0200
TZNAME:CEST
DTSTART:20270328T010000
END:DAYLIGHT
BEGIN:STANDARD
TZOFFSETFROM:+0200
TZOFFSETTO:+0100
TZNAME:CET
DTSTART:20271031T010000
END:STANDARD
END:VTIMEZONE
BEGIN:VEVENT
DTSTART;TZID=Europe/Madrid:20260426T100000
DTEND;TZID=Europe/Madrid:20260426T100000
DTSTAMP:20260423T173332
CREATED:20260423T061400Z
LAST-MODIFIED:20260423T061400Z
UID:10000388-1777197600-1777197600@www.fondoneus.es
SUMMARY:Presentación libro: «El naixement del Monòver modern»
DESCRIPTION:
URL:https://www.fondoneus.es/event/presentacion-libro-el-naixement-del-monover-modern/
LOCATION:Hogar del Pensionita\, Plaza de la Villa\, Hondón de las Nieves\, Alicante\, 03688\, España
CATEGORIES:Cultura
ATTACH;FMTTYPE=image/jpeg:https://www.fondoneus.es/wp-content/uploads/2026/04/presentacion-libro.jpg
END:VEVENT
END:VCALENDAR